BEGIN:VCALENDAR
VERSION:2.0
PRODID:-//LennardtundPartner - ECPv6.15.20//NONSGML v1.0//EN
CALSCALE:GREGORIAN
METHOD:PUBLISH
X-WR-CALNAME:LennardtundPartner
X-ORIGINAL-URL:https://www.lennardtundpartner.de
X-WR-CALDESC:Veranstaltungen für LennardtundPartner
REFRESH-INTERVAL;VALUE=DURATION:PT1H
X-Robots-Tag:noindex
X-PUBLISHED-TTL:PT1H
BEGIN:VTIMEZONE
TZID:Europe/Berlin
BEGIN:DAYLIGHT
TZOFFSETFROM:+0100
TZOFFSETTO:+0200
TZNAME:CEST
DTSTART:20250330T010000
END:DAYLIGHT
BEGIN:STANDARD
TZOFFSETFROM:+0200
TZOFFSETTO:+0100
TZNAME:CET
DTSTART:20251026T010000
END:STANDARD
BEGIN:DAYLIGHT
TZOFFSETFROM:+0100
TZOFFSETTO:+0200
TZNAME:CEST
DTSTART:20260329T010000
END:DAYLIGHT
BEGIN:STANDARD
TZOFFSETFROM:+0200
TZOFFSETTO:+0100
TZNAME:CET
DTSTART:20261025T010000
END:STANDARD
BEGIN:DAYLIGHT
TZOFFSETFROM:+0100
TZOFFSETTO:+0200
TZNAME:CEST
DTSTART:20270328T010000
END:DAYLIGHT
BEGIN:STANDARD
TZOFFSETFROM:+0200
TZOFFSETTO:+0100
TZNAME:CET
DTSTART:20271031T010000
END:STANDARD
END:VTIMEZONE
BEGIN:VEVENT
DTSTART;TZID=Europe/Berlin:20261119T090000
DTEND;TZID=Europe/Berlin:20261119T130000
DTSTAMP:20260421T071300
CREATED:20251124T113209Z
LAST-MODIFIED:20260413T074056Z
UID:32149-1795078800-1795093200@www.lennardtundpartner.de
SUMMARY:Brücke zur Zukunft: Kommunen als Partner der Unternehmen in der Fachkräftegewinnung
DESCRIPTION:KI-Kompetenz 2.0: Mit klugen Prompts und smarter Strategie zum digitalen Vorsprung		\n				\n					\n		\n					\n		\n				\n						\n					\n			\n						\n				\n							1. Oktober 2026 – online via Zoom 						\n				\n					\n		\n					\n		\n				\n						\n					\n			\n						\n				\n							Das Seminar richtet sich an Fach- und Führungskräfte aus der Wirtschaftsförderung\, die den Einsatz von KI-Systemen gezielt weiterentwickeln möchten. Im Fokus steht die wirkungsvolle Nutzung mittels durchdachtem Prompting sowie ein kompakter Überblick über organisatorische Voraussetzungen\, um KI-Systeme nachhaltig im Arbeitsumfeld zu verankern. Eine vertiefende Live-Demonstration macht die Inhalte praxisnah erlebbar. 						\n				\n					\n		\n					\n		\n				\n						\n					\n			\n						\n				\n							   9.00 Uhr                   Begrüßung    9.15 Uhr                   Einführungsvortrag durch Jörg Lennardt    9.45 Uhr                   Vorstellung „Die KI-Botschafter“ und interaktive Umfrage 10.00 Uhr                    Prompting – die Kunst\, KI richtig zu „füttern“                                       Arbeitskultur und Change 10.45 Uhr                    Fragen und Diskussion                        11.00 Uhr                    Kaffeepause                11.15 Uhr                    Vertiefende Live-Demo und abschließende Diskussionsrunde                      13.00 Uhr                    Ende des Seminars Gerne stehen wir Ihnen auch nach 13.00 Uhr für individuelle Fragen zur Verfügung. 						\n				\n					\n		\n					\n		\n				\n						\n					\n			\n						\n				\n					\n			\n		\n				\n				\n					\n		\n					\n		\n				\n						\n					\n			\n						\n				\n							Seminarprogramm downloaden 						\n				\n				\n				\n			Ihr Referenten		\n				\n					\n		\n					\n		\n				\n						\n					\n			\n						\n				\n					\n			\n		\n				\n				\n					\n		\n					\n		\n				\n							\n							\n					\n			\n						\n				\n																										\n				\n					\n		\n				\n			\n						\n				\n							Jörg Lennardt\, Geschäftsführer von LennardtundPartner\, gibt seit über 20 Jahren seine umfangreiche Praxiserfahrung weiter. Viele heute erfahrene Wirtschaftsförderer:innen haben als Einsteiger:innen dieses Seminar besucht und so den Grundstein für ihren Erfolg gelegt. 						\n				\n					\n		\n					\n		\n				\n						\n					\n			\n						\n				\n					\n			\n		\n				\n				\n					\n		\n					\n		\n				\n							\n							\n					\n			\n						\n				\n																										\n				\n					\n		\n				\n			\n						\n				\n							Alexander Miller ist Geschäftsführer der Troisdorfer Wirtschaftsförderung und bringt jahrelange Erfahrung in der Vermittlung digitaler Themen mit. Als KI-Botschafter zeigt er\, wie Wirtschaftsförderungen vom praktischen Einsatz Künstlicher Intelligenz profitieren können. 						\n				\n					\n		\n					\n		\n				\n						\n					\n			\n						\n				\n					\n			\n		\n				\n				\n					\n		\n					\n		\n				\n							\n							\n					\n			\n						\n				\n																										\n				\n					\n		\n				\n			\n						\n				\n							Max Schwerhoff ist als Projektkoordinator bei der Stadt Troisdorf für die Digitalisierung zuständig. Als KI-Botschafter vermittelt er zudem praxisnahes Wissen zu KI und begleitet Organisationen dabei\, KI kompetent und verantwortungsvoll im beruflichen Alltag einzusetzen. 						\n				\n					\n		\n					\n		\n				\n						\n					\n			\n						\n				\n					\n			\n		\n				\n				\n					\n		\n					\n		\n				\n						\n					\n			\n						\n				\n			Jetzt Teilnahme sichern		\n				\n				\n						\n					\n			\n						\n				\n							 199\,00 Euro zzgl. MwSt. 						\n				\n					\n		\n				\n			\n						\n				\n							\n					\n						\n									Anmeldung\n					\n					\n				\n						\n				\n					\n		\n					\n		\n					\n		\n				\n			\n							\n		\n					\n		\n				\n						\n					\n			\n						\n				\n					\n			\n		\n				\n				\n					\n		\n					\n		\n				\n						\n					\n			\n						\n				\n							> Weitere Seminare
URL:https://www.lennardtundpartner.de/event/2611fachkraefte/
LOCATION:Online via Zoom
CATEGORIES:Online
END:VEVENT
END:VCALENDAR